BEGIN:VCALENDAR
VERSION:2.0
PRODID:-//Vilniaus Židinio - ECPv6.15.12.2//NONSGML v1.0//EN
CALSCALE:GREGORIAN
METHOD:PUBLISH
X-ORIGINAL-URL:https://www.zidinio.vilnius.lm.lt
X-WR-CALDESC:Renginiai Vilniaus Židinio
REFRESH-INTERVAL;VALUE=DURATION:PT1H
X-Robots-Tag:noindex
X-PUBLISHED-TTL:PT1H
BEGIN:VTIMEZONE
TZID:Europe/Vilnius
BEGIN:DAYLIGHT
TZOFFSETFROM:+0200
TZOFFSETTO:+0300
TZNAME:EEST
DTSTART:20210328T010000
END:DAYLIGHT
BEGIN:STANDARD
TZOFFSETFROM:+0300
TZOFFSETTO:+0200
TZNAME:EET
DTSTART:20211031T010000
END:STANDARD
BEGIN:DAYLIGHT
TZOFFSETFROM:+0200
TZOFFSETTO:+0300
TZNAME:EEST
DTSTART:20220327T010000
END:DAYLIGHT
BEGIN:STANDARD
TZOFFSETFROM:+0300
TZOFFSETTO:+0200
TZNAME:EET
DTSTART:20221030T010000
END:STANDARD
BEGIN:DAYLIGHT
TZOFFSETFROM:+0200
TZOFFSETTO:+0300
TZNAME:EEST
DTSTART:20230326T010000
END:DAYLIGHT
BEGIN:STANDARD
TZOFFSETFROM:+0300
TZOFFSETTO:+0200
TZNAME:EET
DTSTART:20231029T010000
END:STANDARD
END:VTIMEZONE
BEGIN:VEVENT
DTSTART;VALUE=DATE:20220715
DTEND;VALUE=DATE:20220716
DTSTAMP:20260423T125212
CREATED:20220720T104658Z
LAST-MODIFIED:20220720T104658Z
UID:4045-1657843200-1657929599@www.zidinio.vilnius.lm.lt
SUMMARY:Brandos atestatų įteikimo šventė
DESCRIPTION:Skambant gimnazijos dainai \,\,Baltas paukštis“ į brandos atestatų įteikimo šventę rinkosi abiturientai\, jų tėvai\, mokytojai. Renginio pradžioje abiturientus pasveikino gimnazijos direktorius Vytautas Girčius. Šiemet Vilniaus \,\,Židinio“ suaugusiųjų gimnaziją sėkmingai baigė 74 abiturientai. \nDžiaugiamės\, kad Vilniaus šv. Jonų bažnyčioje buvo pasveikinti sostinės abiturientai už valstybinius brandos ir tarptautinio bakalaureato egzaminus gavę po du ir daugiau 100 balų įvertinimų. Džiugu paminėti\, kad tarp jų ir mūsų gimnazijos abiturientė Justė Pečkaitytė valstybiniuose egzaminuose surinkusi du šimtukus. Dėkojame lietuvių kalbos mokytojai Živilei Vizgintienei ir anglų kalbos mokytojai Natalijai Miliauskienei puikiai paruošus egzaminams abiturientę.
URL:https://www.zidinio.vilnius.lm.lt/renginys/brandos-atestatu-iteikimo-svente/
ATTACH;FMTTYPE=image/jpeg:https://www.zidinio.vilnius.lm.lt/wp-content/uploads/01-scaled.jpg
END:VEVENT
END:VCALENDAR