BEGIN:VCALENDAR
VERSION:2.0
PRODID:-//Vilniaus Židinio - ECPv6.15.12.2//NONSGML v1.0//EN
CALSCALE:GREGORIAN
METHOD:PUBLISH
X-WR-CALNAME:Vilniaus Židinio
X-ORIGINAL-URL:https://www.zidinio.vilnius.lm.lt
X-WR-CALDESC:Renginiai Vilniaus Židinio
REFRESH-INTERVAL;VALUE=DURATION:PT1H
X-Robots-Tag:noindex
X-PUBLISHED-TTL:PT1H
BEGIN:VTIMEZONE
TZID:Europe/Vilnius
BEGIN:DAYLIGHT
TZOFFSETFROM:+0200
TZOFFSETTO:+0300
TZNAME:EEST
DTSTART:20210328T010000
END:DAYLIGHT
BEGIN:STANDARD
TZOFFSETFROM:+0300
TZOFFSETTO:+0200
TZNAME:EET
DTSTART:20211031T010000
END:STANDARD
BEGIN:DAYLIGHT
TZOFFSETFROM:+0200
TZOFFSETTO:+0300
TZNAME:EEST
DTSTART:20220327T010000
END:DAYLIGHT
BEGIN:STANDARD
TZOFFSETFROM:+0300
TZOFFSETTO:+0200
TZNAME:EET
DTSTART:20221030T010000
END:STANDARD
BEGIN:DAYLIGHT
TZOFFSETFROM:+0200
TZOFFSETTO:+0300
TZNAME:EEST
DTSTART:20230326T010000
END:DAYLIGHT
BEGIN:STANDARD
TZOFFSETFROM:+0300
TZOFFSETTO:+0200
TZNAME:EET
DTSTART:20231029T010000
END:STANDARD
END:VTIMEZONE
BEGIN:VEVENT
DTSTART;VALUE=DATE:20220602
DTEND;VALUE=DATE:20220603
DTSTAMP:20260423T141035
CREATED:20220603T101045Z
LAST-MODIFIED:20220606T051128Z
UID:3946-1654128000-1654214399@www.zidinio.vilnius.lm.lt
SUMMARY:Išvyka į Kasiulio muziejų
DESCRIPTION:Birželio 2 d. Vilniaus \,\,Židinio“ suaugusiųjų gimnazijos mokiniai\, kartu su chemijos\, fizikos ir dailės mokytojomis\, apsilankė Vytauto Kasiulio dailės muziejuje\, ir sudalyvavo edukaciniame užsiėmime „Fizika dailėje“. Mokiniai patyrė\, kad menas\, ypač šiuolaikinis\, dažnai neatsiejamas nuo įvairių eksperimentų\, paremtų gamtos mokslų žiniomis bei naujųjų technologijų išmanymu. Užsiėmimo metu aptarėme šviesos sklidimo dėsnius\, kūrėme kompozicijas ant stiklo\, o vėliau jas ryškinome ir fiksavome. Taip susipažinome su tradicinės fotografijos veikimo principais\, išmokome sieti skirtingas disciplinas. Kol sukurtos nespalvotos fotogramos džiūvo\, apžiūrėjome šiuolaikinės Afrikos dailės parodą\, susipažinome su jaunųjų Afrikos dailininkų kūryba.
URL:https://www.zidinio.vilnius.lm.lt/renginys/isvyka-i-kasiulio-muzieju/
END:VEVENT
BEGIN:VEVENT
DTSTART;TZID=Europe/Vilnius:20220608T090000
DTEND;TZID=Europe/Vilnius:20220608T140000
DTSTAMP:20260423T141035
CREATED:20220701T102505Z
LAST-MODIFIED:20220701T102505Z
UID:4027-1654678800-1654696800@www.zidinio.vilnius.lm.lt
SUMMARY:Edukacinis dviračių žygis
DESCRIPTION:Birželio 8 d. Vilniaus \,\,Židinio“ suaugusiųjų gimnazijos mokiniai ir mokytojai leidosi į edukacinį dviračių žygį po Vilniaus apylinkes. Smagu\, kad važiavimas dviračiais jau tampa tradiciniu gimnazijos žygiu\, kuriuo stiprinama fizinė ir emocinė mokinių bei mokytojų sveikata. \nŽygio pradžia prasidėjo ties dešiniuoju Neries upės dviračių taku link Verkių regioninio parko. Pirmasis sustojimas – Vilniaus Švč. Trejybės (Trinapolio) bažnyčia. 18 a. greta Švč. Trejybės bažnyčios gyveno Švč. Trejybės katalikų vienuolio ordino vienuoliai. Trinitorius šioje Vilniaus vietoje 1700 m. apgyvendina vyskupas Kazimieras Konstantinas Bžostovskis ir nuo tada ši vieta vadinama Trinapoliu\, t. y trinitorių miestu. \nApsižvalgę sėdome ant dviračių ir sukome dviračių pedalus link Vilniaus Šv. Juozapo kunigų seminarijos. Atvykus čia mūsų laukė siurprizas. Būtent tuo metu seminarijoje lankėsi arkivyskupas Gintaras Grušas. Arkivyskupo atstovai padovanojo mokiniams ir mokytojams religinės tematikos knygų\, atvirukų\, DVD plokštelių\, kuriuos parvežėme į Vilniaus \,\,Židinio“ suaugusiųjų gimnazijos biblioteką. \nPaskutinis mūsų aplankytas taškas – Vilniaus (Kalvarijų) Šv. Kryžiaus Atradimo bažnyčia. \nIš viso nuvažiavome 37 kilometrus. Laimingi ir sveiki grįžome į Vilniaus \,\,Židinio“ suaugusiųjų gimnaziją.
URL:https://www.zidinio.vilnius.lm.lt/renginys/edukacinis-dviraciu-zygis/
ATTACH;FMTTYPE=image/jpeg:https://www.zidinio.vilnius.lm.lt/wp-content/uploads/IMG_1219.jpeg
END:VEVENT
BEGIN:VEVENT
DTSTART;VALUE=DATE:20220615
DTEND;VALUE=DATE:20220616
DTSTAMP:20260423T141035
CREATED:20220615T104903Z
LAST-MODIFIED:20220808T105402Z
UID:4058-1655251200-1655337599@www.zidinio.vilnius.lm.lt
SUMMARY:Gimnazijos bendruomenės edukacinė išvyką į Vilniaus Rotušę ir jos požemius
DESCRIPTION:Mokslo metų pabaigoje gimnazijos bendruomenė dalyvavo edukacinėje išvykoje į Vilniaus Rotušę ir jos požemius. Ekskursijos metu sužinojome: ką veikė magistratas\, kur dingo Rotušės bokštas\, kokia buvo Rotušės paskirtis viduramžiais\, caro laikais\, tarpukariu. Pamatėme kur buvo įrengti posėdžių kambariai\, teismo salės\, pirklių bendruomenės kambarys\, raštinė\, archyvas. Nusileidę į požemius\, kuriuose veikė Vilniaus magistrato kalėjimas\, sužinojome\, kur ir kokiomis sąlygomis buvo laikomi kaliniai\, kur galėjo stovėti iždo skrynia ar saugomi ginklai\, kur buvo paslėpti Vilniaus arkikatedros lobiai. \nUžmiršta ir negirdėta kelionė po vieną seniausių Vilniaus pastatų leido naujai pažvelgti į Vilniaus miestą ir jos širdį – Rotušę!
URL:https://www.zidinio.vilnius.lm.lt/renginys/gimnazijos-bendruomenes-edukacine-isvyka-i-vilniaus-rotuse-ir-jos-pozemius/
ATTACH;FMTTYPE=image/jpeg:https://www.zidinio.vilnius.lm.lt/wp-content/uploads/5-3.jpg
END:VEVENT
END:VCALENDAR