BEGIN:VCALENDAR
VERSION:2.0
PRODID:-//Vilniaus Židinio - ECPv6.15.12.2//NONSGML v1.0//EN
CALSCALE:GREGORIAN
METHOD:PUBLISH
X-ORIGINAL-URL:https://www.zidinio.vilnius.lm.lt
X-WR-CALDESC:Renginiai Vilniaus Židinio
REFRESH-INTERVAL;VALUE=DURATION:PT1H
X-Robots-Tag:noindex
X-PUBLISHED-TTL:PT1H
BEGIN:VTIMEZONE
TZID:Europe/Vilnius
BEGIN:DAYLIGHT
TZOFFSETFROM:+0200
TZOFFSETTO:+0300
TZNAME:EEST
DTSTART:20210328T010000
END:DAYLIGHT
BEGIN:STANDARD
TZOFFSETFROM:+0300
TZOFFSETTO:+0200
TZNAME:EET
DTSTART:20211031T010000
END:STANDARD
BEGIN:DAYLIGHT
TZOFFSETFROM:+0200
TZOFFSETTO:+0300
TZNAME:EEST
DTSTART:20220327T010000
END:DAYLIGHT
BEGIN:STANDARD
TZOFFSETFROM:+0300
TZOFFSETTO:+0200
TZNAME:EET
DTSTART:20221030T010000
END:STANDARD
BEGIN:DAYLIGHT
TZOFFSETFROM:+0200
TZOFFSETTO:+0300
TZNAME:EEST
DTSTART:20230326T010000
END:DAYLIGHT
BEGIN:STANDARD
TZOFFSETFROM:+0300
TZOFFSETTO:+0200
TZNAME:EET
DTSTART:20231029T010000
END:STANDARD
END:VTIMEZONE
BEGIN:VEVENT
DTSTART;VALUE=DATE:20220126
DTEND;VALUE=DATE:20220127
DTSTAMP:20260423T211527
CREATED:20220201T171236Z
LAST-MODIFIED:20220201T171236Z
UID:3139-1643155200-1643241599@www.zidinio.vilnius.lm.lt
SUMMARY:Edukacinė išvyka į muitinės muziejų
DESCRIPTION:Vilniaus „Židinio“ suaugusiųjų mokyklos mokiniai  sausio 26  Tarptautinės muitinės dieną  vyko į edukologinę ekskursiją muitinės muziejų. Muziejus įsteigtas 1994 metais. Jame kaupiama ir saugoma istorinė\, dokumentinė ir kitokia medžiaga\, susijusi su muitinės istorija. Ekskursijos metu turėjome galimybę susipažinti su muitinės istorija Lietuvos Didžiosios Kunigaikštystės ir Rusijos imperijos laikotarpiais bei 1918 m. atkūrus nepriklausomą Lietuvos valstybę. Mokiniams bus įdomu pamatyti minėtų laikotarpių eksponatus\, tarp jų − dokumentus\, autentišką carinės Rusijos bei Prūsijos pasienio stulpą\, nuotraukas\, atvirukus\, pasakojančius apie muitinių\, pasienio perėjimo punktų veiklą. Ekspozicijoje supažinome su sovietinės kariuomenės\, omonininkų agresija prieš atkurtos Lietuvos nepriklausomybę\, muitinės postų užpuldinėjimais bei tragiškais 1991 m. liepos 31 d. įvykiais Medininkų pasienio poste. \nBuvo įdomu sužinoti kokie daiktai gabenami kontrabanda. Nustebome pamatę\, kaip išradingai kontrabandininkai geba slėpti nelegaliai gabenamas prekes. Pamatėme kaip eksponuojamame automobilio makete meistriškai įrengtos slėptuvės\, kuriuose buvo gabenamos kontrabandinės prekės ir   narkotinės medžiagos. Muitinės muziejuje taip pat demonstruojami sulaikyti daiktai bei įvairūs suvenyrai\, pagaminti iš nykstančių gyvūnų ir augalų\, kurie saugomi Nykstančių laukinės faunos ir floros rūšių tarptautinės prekybos (CITES) konvencijos. \nTaipogi turėjome galimybę „prisimatuoti“ muitininko uniformą. Sužinojome kokie keliami reikalavimai renkantis muitiniko profesiją\, kur galima įgyti reikiamų šiai profesijai įgūdžių\, kokio dydžio atlyginimus gauna šios profesijos specialistai. Ir turbūt įdomiausia dalis muitininko kinologo darbo ypatumai. Sužinojome ir pamatėme\, kokio tipo šuniukai tinkami šiai profesijai\, kaip jie ruošiami tapti muitininkų pagalbininkais\, kaip ieškoma narkotinių ir kitų draudžiamų medžiagų. \nNa ir svarbiausia sužinojome\, kad norint tapti muitinės darbuotojų reikia turėti nepriekaištingą reputaciją. \nMes jau ir muitinės facebook‘e: \n 
URL:https://www.zidinio.vilnius.lm.lt/renginys/edukacine-isvyka-i-muitines-muzieju/
ATTACH;FMTTYPE=image/jpeg:https://www.zidinio.vilnius.lm.lt/wp-content/uploads/3-2-scaled-e1643735472176.jpg
END:VEVENT
END:VCALENDAR