BEGIN:VCALENDAR
VERSION:2.0
PRODID:-//Vilniaus Židinio - ECPv6.15.12.2//NONSGML v1.0//EN
CALSCALE:GREGORIAN
METHOD:PUBLISH
X-WR-CALNAME:Vilniaus Židinio
X-ORIGINAL-URL:https://www.zidinio.vilnius.lm.lt
X-WR-CALDESC:Renginiai Vilniaus Židinio
REFRESH-INTERVAL;VALUE=DURATION:PT1H
X-Robots-Tag:noindex
X-PUBLISHED-TTL:PT1H
BEGIN:VTIMEZONE
TZID:Europe/Vilnius
BEGIN:DAYLIGHT
TZOFFSETFROM:+0200
TZOFFSETTO:+0300
TZNAME:EEST
DTSTART:20200329T010000
END:DAYLIGHT
BEGIN:STANDARD
TZOFFSETFROM:+0300
TZOFFSETTO:+0200
TZNAME:EET
DTSTART:20201025T010000
END:STANDARD
BEGIN:DAYLIGHT
TZOFFSETFROM:+0200
TZOFFSETTO:+0300
TZNAME:EEST
DTSTART:20210328T010000
END:DAYLIGHT
BEGIN:STANDARD
TZOFFSETFROM:+0300
TZOFFSETTO:+0200
TZNAME:EET
DTSTART:20211031T010000
END:STANDARD
BEGIN:DAYLIGHT
TZOFFSETFROM:+0200
TZOFFSETTO:+0300
TZNAME:EEST
DTSTART:20220327T010000
END:DAYLIGHT
BEGIN:STANDARD
TZOFFSETFROM:+0300
TZOFFSETTO:+0200
TZNAME:EET
DTSTART:20221030T010000
END:STANDARD
END:VTIMEZONE
BEGIN:VEVENT
DTSTART;VALUE=DATE:20211005
DTEND;VALUE=DATE:20211006
DTSTAMP:20260424T015328
CREATED:20211013T101456Z
LAST-MODIFIED:20211013T101456Z
UID:2300-1633392000-1633478399@www.zidinio.vilnius.lm.lt
SUMMARY:Mokytojų dienos minėjimas
DESCRIPTION:Mokytojų diena gimnazijoje \nMokytojų dienos proga teatro aktorės Vitalija Mockevičiūtė ir Neringa Varnelytė Vilniaus \,\,Židinio“ gimnazijos bendruomenei pristatė edukacinį spektaklį\, besiremiantį lietuvių liaudies išmintimi ir pasakojimais. \nAktorės Vitalija Mockevičiūtė (Lietuvos nacionalinis dramos teatras)\, Neringa Varnelytė (Valstybinis Jaunimo teatras)\, muzikantai Darius Mockevičius ir Paulius Kovalenko sukūrė spektaklį\, kuriame persipina siaubo pasakos\, lietuviškos sakmės\, užrašytos Jono Basanavičiaus ir Norberto Vėliaus bei lietuvių liaudies romansai. Tai spektaklis apie vieno žmogaus šeimos lemtį nuolat susidurti su anapusiniu dvasių\, vėlių\, velnių pasauliu. Spektaklis apie žmogų\, nebijantį pažinti baimės; apie žmogų\, norėjusį apgauti pačią mirtį ir bandantį įminti Dievo sukurto pasaulio paslaptis.
URL:https://www.zidinio.vilnius.lm.lt/renginys/mokytoju-dienos-minejimas/
END:VEVENT
BEGIN:VEVENT
DTSTART;VALUE=DATE:20211021
DTEND;VALUE=DATE:20211022
DTSTAMP:20260424T015328
CREATED:20211028T124438Z
LAST-MODIFIED:20211028T124901Z
UID:2342-1634774400-1634860799@www.zidinio.vilnius.lm.lt
SUMMARY:UK veiklos – dalyvavimo SPOTISELF veiklose
DESCRIPTION:Ugdymo karjerai tikslas – padėti mokiniams ugdytis karjeros kompetencijas\, būtinas sėkmingai renkantis tolimesnę mokymosi kryptį ir profesinę  veiklą. \nSpalio mėnesį Vilniaus \,\,Židinio“ gimnazija gavo pasiūlymą mokiniams iš Spotiself (interaktyvios karjeros planavimo ir asmenybės ugdymo platformos) atlikti Spotiself – unikalų asmenybės ir karjeros testą\, parengtą VU mokslininkų komandos. Atliekantiems testą  mokiniams suteikiama galimybė  nustatyti asmenybės stiprybes\, silpnybes\, intelektą\, karjeros polinkius. Šio testo išvados – tai pamatai jaunimui renkantis karjerą. Mokiniai geranoriškai atliko testą\, sužinojo naujų bei vertingų rekomendacijų planuojant būsimos profesijos kryptį. \nSpalio 21 d. keli gimnazijos mokytojai dalyvavo  tiesioginėje diskusijoje \,\,SPOTISELF: ateities kompetencijos dabar”\, kurios metu diskutuota apie įgūdžius ir kompetencijas\, reikalingas  ateityje siekiant karjeros aukštumų.  Diskusijoje dalyvavo ir geriausi savo sričių specialistai iš skaitmeninio turinio kūrėjų „Bored Panda“\, telekomunikacijų bendrovės „Telia“\, įdarbinimo agentūros „Simplika“\, aktorius ir prodiuseris D. Laukys\, Lietuvos karjeros specialistų asociacijos atstovai ir kiti įdomūs pašnekovai. \nDiskusijos metu  aptartos darbdaviams reikalingos kompetencijos\, svarstyta\, ką svarbu lavinti jau dabar\, kad atkreiptum darbdavio dėmesį\, į kokią mokymosi kryptį susitelkti\, kad galėtum varžytis ateities rinkoje su robotais; kodėl svarbu pažinti save ir atrasti savo stipriąsias savybes; kokią reikšmę profesionalus karjeros planavimas suteikia sėkmingam ir laimingam gyvenimui; kaip išdrįsti gyventi taip\, kaip nori? \nDiskusija suteikė naujos patirties mokytojams\, o mokiniams skirti savęs pažinimo testai turėtų būti paskata sėkmingai judėti  siekiamos karjeros link. \n  \n 
URL:https://www.zidinio.vilnius.lm.lt/renginys/uk-veiklos-dalyvavimo-spotiself-veiklose/
END:VEVENT
BEGIN:VEVENT
DTSTART;VALUE=DATE:20211025
DTEND;VALUE=DATE:20211026
DTSTAMP:20260424T015328
CREATED:20211110T104755Z
LAST-MODIFIED:20211110T104755Z
UID:2352-1635120000-1635206399@www.zidinio.vilnius.lm.lt
SUMMARY:Konstitucijos egzaminas
DESCRIPTION:Spalio 25 dieną LR Teisingumo ministerija kartu su egzamino globėju Lietuvos Respublikos Prezidentu Gitanu Nausėda pakvietė visus šalies piliečius ir gyventojus pasitikrinti LR Konstitucijos žinias.  \nIstorijos pamokų metu\, nuotoliniu būdu IV-tų gimnazijos klasių mokiniai dalyvavo LR Konstitucijos egzamine.   \nŠis Konstitucijos egzaminas ir augantis jo populiarumas rodo\, kad esame aktyvi ir pilietiška visuomenė. Esame neabejingi mūsų šalies raidai ir gyvenimui Lietuvoje. \n 
URL:https://www.zidinio.vilnius.lm.lt/renginys/konstitucijos-egzaminas/
END:VEVENT
BEGIN:VEVENT
DTSTART;VALUE=DATE:20211027
DTEND;VALUE=DATE:20211028
DTSTAMP:20260424T015328
CREATED:20211028T124300Z
LAST-MODIFIED:20211028T124300Z
UID:2337-1635292800-1635379199@www.zidinio.vilnius.lm.lt
SUMMARY:Popietė \,\,Iš senolių bibliotekos“
DESCRIPTION:Spalio 27 d. gimnazijoje vyko šilta ir prasmių kupina popietė „Iš senelių bibliotekos”. Prisimindami\, kokias knygas leido ir skaitė mūsų tėvai ir seneliai\, klausydami Vytauto Kernagio\, palikusio pėdsaką mūsų gimnazijoje\, dainos\, prisiminėme ir juos pačius\, jų darbus\, taip prieš pat Vėlines uždegdami atminties žvakelę savo širdyse.
URL:https://www.zidinio.vilnius.lm.lt/renginys/popiete-is-senoliu-bibliotekos/
END:VEVENT
BEGIN:VEVENT
DTSTART;VALUE=DATE:20211028
DTEND;VALUE=DATE:20211029
DTSTAMP:20260424T015328
CREATED:20211028T110017Z
LAST-MODIFIED:20220322T174450Z
UID:3651-1635379200-1635465599@www.zidinio.vilnius.lm.lt
SUMMARY:Pažintis su bibliotekininko profesija
DESCRIPTION:Spalio 28 dieną gimnazijos bibliotekoje vyko II a klasės valandėlė\, kuri buvo skirta pažinčiai su bibliotekininko profesija. Mokiniai buvo supažindinti su bibliotekos veikla: darbo organizavimu\, fondų papildymu ir tvarkymu\, naujausia akademine bei grožine literatūra\, periodine spauda. Su gimnazijos bibliotekininke vyko įdomi diskusija apie šios profesijos iššūkius bei bibliotekos poveikį asmenybės formavimuisi. \n  \nII A klasės vadovė
URL:https://www.zidinio.vilnius.lm.lt/renginys/pazintis-su-bibliotekininko-profesija/
END:VEVENT
END:VCALENDAR