BEGIN:VCALENDAR
VERSION:2.0
PRODID:-//Vilniaus Židinio - ECPv6.15.12.2//NONSGML v1.0//EN
CALSCALE:GREGORIAN
METHOD:PUBLISH
X-WR-CALNAME:Vilniaus Židinio
X-ORIGINAL-URL:https://www.zidinio.vilnius.lm.lt
X-WR-CALDESC:Renginiai Vilniaus Židinio
REFRESH-INTERVAL;VALUE=DURATION:PT1H
X-Robots-Tag:noindex
X-PUBLISHED-TTL:PT1H
BEGIN:VTIMEZONE
TZID:Europe/Vilnius
BEGIN:DAYLIGHT
TZOFFSETFROM:+0200
TZOFFSETTO:+0300
TZNAME:EEST
DTSTART:20200329T010000
END:DAYLIGHT
BEGIN:STANDARD
TZOFFSETFROM:+0300
TZOFFSETTO:+0200
TZNAME:EET
DTSTART:20201025T010000
END:STANDARD
BEGIN:DAYLIGHT
TZOFFSETFROM:+0200
TZOFFSETTO:+0300
TZNAME:EEST
DTSTART:20210328T010000
END:DAYLIGHT
BEGIN:STANDARD
TZOFFSETFROM:+0300
TZOFFSETTO:+0200
TZNAME:EET
DTSTART:20211031T010000
END:STANDARD
BEGIN:DAYLIGHT
TZOFFSETFROM:+0200
TZOFFSETTO:+0300
TZNAME:EEST
DTSTART:20220327T010000
END:DAYLIGHT
BEGIN:STANDARD
TZOFFSETFROM:+0300
TZOFFSETTO:+0200
TZNAME:EET
DTSTART:20221030T010000
END:STANDARD
END:VTIMEZONE
BEGIN:VEVENT
DTSTART;VALUE=DATE:20210913
DTEND;VALUE=DATE:20210919
DTSTAMP:20260424T033803
CREATED:20211007T080212Z
LAST-MODIFIED:20211007T080534Z
UID:2262-1631491200-1632009599@www.zidinio.vilnius.lm.lt
SUMMARY:Svečių iš Vengrijos viešnagė
DESCRIPTION:Rugsėjo 13 – 18 d. gimnazijoje vyko programos Erasmus+ KA1 MOBILITY FOR ADULT EDUCATION STAFF projekto partnerių iš Vengrijos viešnagė. Budapešto Deak Ferenz gimnazijos komanda pristatė gimnazijos andrologams Vengrijos švietimo sistemą bei šių dienų Vengrijos kultūrinio bei politinio gyvenimo aktualijas. Pokalbio su gimnazijos bendruomene metu vyko pasidalijimas gerąja patirtimi\, svečius itin domino gimnazijos ugdomosios erdvės bei paties ugdomojo proceso organizavimas. Nemažai klausimų teko atsakyti ir gimnazijos administracijai: Lietuvos švietimo sistema ir pagrindinės švietimo politikos gairės\, švietimo įstaigų finansavimas bei švietimo įstaigų autonomiškumas bendrame ugdymo organizavimo kontekste. Pavaduotojos suteikė informaciją apie pamokų tvarkaraščio sudarymą\, lankomumo problemas\, mokytojo darbo krūvio sandarą ir kita. Pats ugdomasis procesas buvo stebimas lankytose lietuvių bei anglų kalbos\, IT\, muzikos ir kitų pamokų metu. Projekto dalyvės turėjo galimybę dalyvauti ir vienoje neformalioje veikloje\, tai L. Lichtarovičienės vedamas sertifikuotos programos „Sodų ir kitų šiaudinių gaminių rišimas“ įvadinis užsiėmimas. \nLankantis Algirdo muzikos mokykloje buvo pristatytas bei aptartas menui gabių vaikų ir jaunuolių ugdymo organizavimas Lietuvoje bei diskutuota apie neformalus švietimo srityje kylančius iššūkius tiek Lietuvoje\, tiek ir Vengrijoje. \nVizitas Mindaugo vidurinėje mokykloje buvo skirtas mokinių su spec. poreikiais integracijai į ugdymo procesą. Ugdymo patalpų bei erdvių apžiūros metu mokyklos administracija išsamiai atsakė į daugybę iškilusių klausimų\, kadangi Vengrijoje\, pasak svečių\, dar skiriama ženkliai per mažai dėmesio mokiniams\, turintiems spec. poreikių. \nSvečiams neišdildomą įspūdį paliko ir viešnagė vienoje iš Lietuvos moderniausiai įrengtų mokyklų\, t. y. Balsių progimnazijoje. Daug klausimų kilo ne tik apie mokyklos išorės ir vidaus interjerą bei disponuojamą techninę bazę\, bet ir apie ugdymo proceso organizavimą\, kontaktą su tėvais\, mokinių drausmės problemas\, ryšį su vietos bendruomene\, privalomus užsiėmimus lauke\, bet ir apie kitas mokyklos kasdienio gyvenimo sritis. \nLaisvu metu svečiams buvo vesta ekskursija po miestą\, pristatant mūsų sostinės Vilniaus gyvenimo svarbiausius istorinius\, kultūrinius bei politinius aspektus. Tautų mugės metu buvo galimybė ne tik paskanauti lietuviško kulinarinio paveldo patiekalų bet ir įsigyti tradicinių amatininkų gaminių. Apžvalginė ekskursija po Vilniaus apylinkes atskleidė apylinkių grožį išryškinančią reljefo\, vandens telkinių bei istorinių objektų įvairovę. \nSmagu\, kad projektinė veikla leidžia ne tik pažinti kitus kraštus bei jų papročius\, bet ir skleisti žinią pasauliui apie savo gimtąjį kraštą.
URL:https://www.zidinio.vilnius.lm.lt/renginys/sveciu-is-vengrijos-viesnage/
END:VEVENT
BEGIN:VEVENT
DTSTART;VALUE=DATE:20210915
DTEND;VALUE=DATE:20210916
DTSTAMP:20260424T033803
CREATED:20210915T080057Z
LAST-MODIFIED:20211212T130038Z
UID:2633-1631664000-1631750399@www.zidinio.vilnius.lm.lt
SUMMARY:Integruota pamoka “V. Mykolaičio – Putino lyrika istoriniame kontekste (XX a. 2 deš. pab.\, 3 deš. )”
DESCRIPTION:2021 rugsėjo 15 d. vyko integruota  lietuvių kalbos ir istorijos pamoka “V. Mykolaičio – Putino lyrika istoriniame kontekste (XX a. 2 deš. pab.\, 3 deš. )”. Pamokos pradžioje istorijos mokytoja supažindino mokinius su istoriniu laikotarpio kontekstu\, atkreipė mokinių dėmesį\, koks tai  buvo sudėtingas laikotarpis\,  kėlė probleminius klausimus\, remiantis žemėlapiu\, pakartojo teritorinius pokyčius Europoje\, aptarė socialinius I-ojo pasaulinio karo padarinius. Lietuvių kalbos mokytoja priminė  V. Mykolaičio -Putino biografijos faktus\, kurie lietė kūrėjo gyvenimą XX a. 2 deš.  pab.\, 3 deš. Mokiniai savarankiškai analizavo simbolistinį  eilėraštį „Tarp dviejų aušrų“\, ieškojo atsakymų į klausimus bei paralelių su M. K. Čiurlionio kūryba. Pamokos pabaigoje refleksijai atliko testą. \n 
URL:https://www.zidinio.vilnius.lm.lt/renginys/integruota-pamoka-v-mykolaicio-putino-lyrika-istoriniame-kontekste-xx-a-2-des-pab-3-des/
ATTACH;FMTTYPE=image/png:https://www.zidinio.vilnius.lm.lt/wp-content/uploads/V.-M.-Putinas.png
END:VEVENT
BEGIN:VEVENT
DTSTART;VALUE=DATE:20210924
DTEND;VALUE=DATE:20210928
DTSTAMP:20260424T033803
CREATED:20211001T130317Z
LAST-MODIFIED:20211001T130542Z
UID:2164-1632441600-1632787199@www.zidinio.vilnius.lm.lt
SUMMARY:Europos kalbų diena
DESCRIPTION:Kiekvienais metais\, rugsėjo 26-ąją\, Europoje minima Europos kalboms skirta diena. Tą dieną Europos valstybėse organizuojami įvairūs renginiai\, siekiant paskatinti kalbų mokymosi įvairovę\, išugdyti pagarbą visoms Europos kalboms\, regionų ir tautinių mažumų kalboms. \n2021 m. rugsėjo 24 – 27 d. Europos kalbų diena buvo minima ir Vilniaus „Židinio“ suaugusiųjų gimnazijoje. Kalbų pamokų metu mokiniai skirtingomis kalbomis kūrė posmus apie kalbas japoniška maniera. Trumpais eilėraščiais reiškė  savo mintis apie gimtąją ir Europos šalių kalbas. Savo kūrinius gimnazistai rašė ant spalvotų popieriaus lapų\, iliustravo piešiniais\, kuriuos kabino ant stendo\, puošiančio gimnazijos pirmą aukštą. Visų pamokų metu tomis dienomis buvo kalbama\, diskutuojama apie gimtosios kalbos ir Europos kalbų mokėjimo svarbą. \n  \nVilniaus „Židinio“ suaugusiųjų gimnazijos \nKalbų metodinės grupės mokytojai
URL:https://www.zidinio.vilnius.lm.lt/renginys/europos-kalbu-diena/
END:VEVENT
END:VCALENDAR